BEGIN:VCALENDAR
VERSION:2.0
PRODID:-//Geneve Snowsports - ECPv6.15.20//NONSGML v1.0//EN
CALSCALE:GREGORIAN
METHOD:PUBLISH
X-ORIGINAL-URL:https://genevesnowsports.ch
X-WR-CALDESC:Évènements pour Geneve Snowsports
REFRESH-INTERVAL;VALUE=DURATION:PT1H
X-Robots-Tag:noindex
X-PUBLISHED-TTL:PT1H
BEGIN:VTIMEZONE
TZID:Europe/Paris
BEGIN:DAYLIGHT
TZOFFSETFROM:+0100
TZOFFSETTO:+0200
TZNAME:CEST
DTSTART:20210328T010000
END:DAYLIGHT
BEGIN:STANDARD
TZOFFSETFROM:+0200
TZOFFSETTO:+0100
TZNAME:CET
DTSTART:20211031T010000
END:STANDARD
BEGIN:DAYLIGHT
TZOFFSETFROM:+0100
TZOFFSETTO:+0200
TZNAME:CEST
DTSTART:20220327T010000
END:DAYLIGHT
BEGIN:STANDARD
TZOFFSETFROM:+0200
TZOFFSETTO:+0100
TZNAME:CET
DTSTART:20221030T010000
END:STANDARD
BEGIN:DAYLIGHT
TZOFFSETFROM:+0100
TZOFFSETTO:+0200
TZNAME:CEST
DTSTART:20230326T010000
END:DAYLIGHT
BEGIN:STANDARD
TZOFFSETFROM:+0200
TZOFFSETTO:+0100
TZNAME:CET
DTSTART:20231029T010000
END:STANDARD
BEGIN:DAYLIGHT
TZOFFSETFROM:+0100
TZOFFSETTO:+0200
TZNAME:CEST
DTSTART:20240331T010000
END:DAYLIGHT
BEGIN:STANDARD
TZOFFSETFROM:+0200
TZOFFSETTO:+0100
TZNAME:CET
DTSTART:20241027T010000
END:STANDARD
BEGIN:DAYLIGHT
TZOFFSETFROM:+0100
TZOFFSETTO:+0200
TZNAME:CEST
DTSTART:20250330T010000
END:DAYLIGHT
BEGIN:STANDARD
TZOFFSETFROM:+0200
TZOFFSETTO:+0100
TZNAME:CET
DTSTART:20251026T010000
END:STANDARD
BEGIN:DAYLIGHT
TZOFFSETFROM:+0100
TZOFFSETTO:+0200
TZNAME:CEST
DTSTART:20260329T010000
END:DAYLIGHT
BEGIN:STANDARD
TZOFFSETFROM:+0200
TZOFFSETTO:+0100
TZNAME:CET
DTSTART:20261025T010000
END:STANDARD
END:VTIMEZONE
BEGIN:VEVENT
DTSTART;VALUE=DATE:20251212
DTEND;VALUE=DATE:20251215
DTSTAMP:20260420T134034
CREATED:20250402T150039Z
LAST-MODIFIED:20250916T140157Z
UID:10000053-1765497600-1765756799@genevesnowsports.ch
SUMMARY:WEEK-END DE LANCEMENT DE LA SAISON DE SKI
DESCRIPTION:Weekend de lancement de la saison de ski 2025-2026 au magnifique Resort du Club Med à Peisey-Vallandry du 12 au 14 décembre 2025. \n  \nANNULE ! \nChers membres\, chers participants\, \nNous sommes au regret de vous annoncer que le week-end d’ouverture de la saison prévu du 12 au 14 décembre 2025 est annulé en raison d’un nombre insuffisant d’inscriptions. \nToutes les personnes déjà inscrites seront bien entendu remboursées intégralement. \nNous comprenons la déception que cette annulation peut susciter et vous remercions pour votre compréhension. Nous espérons vous retrouver nombreux lors de nos prochains rendez-vous et événements à venir. \nBien sportivement
URL:https://genevesnowsports.ch/event/week-end-de-lancement-de-la-saison-de-ski-3/
LOCATION:Club Med La Plagne 2100\, Aime 2000\, Aime-la-Plagne\, Savoie\, 73210\, France
CATEGORIES:Week-end de lancement de la saison
ATTACH;FMTTYPE=image/jpeg:https://genevesnowsports.ch/wp-content/uploads/2025/09/Peisey-annule.jpg
END:VEVENT
BEGIN:VEVENT
DTSTART;VALUE=DATE:20241213
DTEND;VALUE=DATE:20241216
DTSTAMP:20260420T134034
CREATED:20240314T120924Z
LAST-MODIFIED:20241212T080114Z
UID:10000047-1734048000-1734307199@genevesnowsports.ch
SUMMARY:WEEK-END DE LANCEMENT DE LA SAISON DE SKI
DESCRIPTION:Weekend de lancement de la saison de ski 2024-2025 au magnifique Resort du Club Med à Peisey-Vallandry du 13 au 15 décembre 2024. \n  \nPLUS D’INFO \nPROGRAMME DU WEEKEND \nCONDITIONS GENERALES \nAttention l’inscription à ce séjour implique obligatoirement l’acceptation des conditions générales \nINSCRIPTION \n  \nRejoignez-nous pour ce weekend d’ouverture sur le domaine skiable « paradiski ».  \nPeisey-Vallandry : la petite perle située au cœur du domaine Paradiski. Nichée au milieu des sapins\, elle vous garantit plaisir\, émotions et sensations tout au long du week-end. \n  \nQUAND ? Du vendredi 13 au dimanche 15 décembre 2024 \n  \nOÙ ? Au magnifique Resort Club Med de Peisey-Vallandry. (4 tridents) \nAu cœur des sommets enneigés de Paradiski\, vous serez idéalement placés pour rayonner sur le domaine des Arcs avec le Vanoise Express\, situé juste à la sortie de votre ski room. Vous serez également confortablement installé dans votre lodge montagnard au charme cosy et familial. \nSki\, fitness\, piscine\, spa\, club enfants\, restaurant : \nun week-end tout compris\, 0 contrainte\, 100% plaisir ! \nNous nous réjouissons de vous accueillir.
URL:https://genevesnowsports.ch/event/week-end-de-lancement-de-la-saison-de-ski-2/
LOCATION:Club Med La Plagne 2100\, Aime 2000\, Aime-la-Plagne\, Savoie\, 73210\, France
CATEGORIES:Week-end de lancement de la saison
ATTACH;FMTTYPE=image/jpeg:https://genevesnowsports.ch/wp-content/uploads/2023/08/peisay3.jpeg
END:VEVENT
BEGIN:VEVENT
DTSTART;VALUE=DATE:20231215
DTEND;VALUE=DATE:20231218
DTSTAMP:20260420T134034
CREATED:20230208T180240Z
LAST-MODIFIED:20231214T072853Z
UID:10000036-1702598400-1702857599@genevesnowsports.ch
SUMMARY:WEEK-END DE LANCEMENT DE LA SAISON DE SKI
DESCRIPTION:Weekend de lancement de la saison de ski 2023-2024 au magnifique Resort du Club Med à Peisey-Vallandry du 15 au 17 décembre 2023. \n  \nLes inscriptions sont closes… \nNous nous réjouissons de vous accueillir.
URL:https://genevesnowsports.ch/event/week-end-de-lancement-de-la-saison-de-ski/
LOCATION:Club Med La Plagne 2100\, Aime 2000\, Aime-la-Plagne\, Savoie\, 73210\, France
CATEGORIES:Week-end de lancement de la saison
ATTACH;FMTTYPE=image/jpeg:https://genevesnowsports.ch/wp-content/uploads/2023/02/club-med.jpeg
END:VEVENT
BEGIN:VEVENT
DTSTART;VALUE=DATE:20221118
DTEND;VALUE=DATE:20221121
DTSTAMP:20260420T134034
CREATED:20220708T142512Z
LAST-MODIFIED:20221109T165549Z
UID:10000022-1668729600-1668988799@genevesnowsports.ch
SUMMARY:LE WEEK-END « LANCEMENT DE LA SAISON » À VAL THORENS: ANNULÉ
DESCRIPTION:Weekend de lancement de la saison de ski 2022-2023 au magnifique Resort du Club Med à Val Thorens du 18 au 20 novembre 2022 \nATTENTION: LES CONDITIONS N’ÉTANT PAS RÉUNIES EN RAISON DU MANQUE DE NEIGE\, NOUS AVONS DÉCIDÉ DE REPORTER L’ÉVÈNEMENT PRÉVU À VAL THORENS DU 18 AU 20 NOVEMBRE 2022 À L’ANNÉE PROCHAINE.  \nLE VŒU DE GENÈVE SNOWSPORTS ET DE SES PARTENAIRES EST DE VOUS OFFRIR LES MEILLEURES CONDITIONS DANS UN CADRE SUPERBE AU CLUB MED\, ET BIEN SÛR ÉGALEMENT DE SE FAIRE PLAISIR SUR LA NEIGE.  \nLES MODALITÉS DE REMBOURSEMENT ET PREMIÈRES INFORMATIONS SUR LA PROCHAINE ÉDITION  SERONT COMMUNIQUÉES D’ICI LA FIN NOVEMBRE. 
URL:https://genevesnowsports.ch/event/le-week-end-lancement-de-la-saison-a-val-thorens/
LOCATION:Club Med La Plagne 2100\, Aime 2000\, Aime-la-Plagne\, Savoie\, 73210\, France
CATEGORIES:Week-end de lancement de la saison
ATTACH;FMTTYPE=image/jpeg:https://genevesnowsports.ch/wp-content/uploads/2022/07/Val-Tho-2.jpg
END:VEVENT
END:VCALENDAR